BEGIN:VCALENDAR
VERSION:2.0
PRODID:-//香港交通安全隊 西九龍總區 - ECPv6.0.5//NONSGML v1.0//EN
CALSCALE:GREGORIAN
METHOD:PUBLISH
X-ORIGINAL-URL:https://hkrspkw.org
X-WR-CALDESC:Events for 香港交通安全隊 西九龍總區
REFRESH-INTERVAL;VALUE=DURATION:PT1H
X-Robots-Tag:noindex
X-PUBLISHED-TTL:PT1H
BEGIN:VTIMEZONE
TZID:Asia/Hong_Kong
BEGIN:STANDARD
TZOFFSETFROM:+0800
TZOFFSETTO:+0800
TZNAME:HKT
DTSTART:20190101T000000
END:STANDARD
END:VTIMEZONE
BEGIN:VEVENT
DTSTART;TZID=Asia/Hong_Kong:20190105T000000
DTEND;TZID=Asia/Hong_Kong:20190105T000000
DTSTAMP:20260425T003319
CREATED:20211031T210750Z
LAST-MODIFIED:20211031T212033Z
UID:10000423-1546646400-1546646400@hkrspkw.org
SUMMARY:幼兒隊檢閱禮隊監簡介會
DESCRIPTION:
URL:https://hkrspkw.org/event/%e5%b9%bc%e5%85%92%e9%9a%8a%e6%aa%a2%e9%96%b1%e7%a6%ae%e9%9a%8a%e7%9b%a3%e7%b0%a1%e4%bb%8b%e6%9c%8376/
LOCATION:深水埗官立小學\, 長沙灣深旺道101號\, 香港
END:VEVENT
BEGIN:VEVENT
DTSTART;TZID=Asia/Hong_Kong:20190105T000000
DTEND;TZID=Asia/Hong_Kong:20190105T000000
DTSTAMP:20260425T003319
CREATED:20211031T210737Z
LAST-MODIFIED:20211031T212031Z
UID:10000400-1546646400-1546646400@hkrspkw.org
SUMMARY:公開隊集會
DESCRIPTION:
URL:https://hkrspkw.org/event/%e5%85%ac%e9%96%8b%e9%9a%8a%e9%9b%86%e6%9c%8333/
LOCATION:深水埗官立小學\, 長沙灣深旺道101號\, 香港
END:VEVENT
BEGIN:VEVENT
DTSTART;TZID=Asia/Hong_Kong:20190126T000000
DTEND;TZID=Asia/Hong_Kong:20190126T000000
DTSTAMP:20260425T003319
CREATED:20211031T210839Z
LAST-MODIFIED:20211031T212056Z
UID:10000630-1548460800-1548460800@hkrspkw.org
SUMMARY:訓練基地
DESCRIPTION:
URL:https://hkrspkw.org/event/%e8%a8%93%e7%b7%b4%e5%9f%ba%e5%9c%b0148/
LOCATION:深水埗官立小學\, 長沙灣深旺道101號\, 香港
END:VEVENT
BEGIN:VEVENT
DTSTART;TZID=Asia/Hong_Kong:20190216T000000
DTEND;TZID=Asia/Hong_Kong:20190216T000000
DTSTAMP:20260425T003319
CREATED:20211031T210840Z
LAST-MODIFIED:20211031T210840Z
UID:10000633-1550275200-1550275200@hkrspkw.org
SUMMARY:訓練基地151
DESCRIPTION:
URL:https://hkrspkw.org/event/%e8%a8%93%e7%b7%b4%e5%9f%ba%e5%9c%b0151/
LOCATION:深水埗官立小學\, 長沙灣深旺道101號\, 香港
END:VEVENT
BEGIN:VEVENT
DTSTART;TZID=Asia/Hong_Kong:20190309T000000
DTEND;TZID=Asia/Hong_Kong:20190309T000000
DTSTAMP:20260425T003319
CREATED:20211031T210840Z
LAST-MODIFIED:20211031T212131Z
UID:10000631-1552089600-1552089600@hkrspkw.org
SUMMARY:訓練基地
DESCRIPTION:
URL:https://hkrspkw.org/event/%e8%a8%93%e7%b7%b4%e5%9f%ba%e5%9c%b0149/
LOCATION:深水埗官立小學\, 長沙灣深旺道101號\, 香港
END:VEVENT
BEGIN:VEVENT
DTSTART;TZID=Asia/Hong_Kong:20190316T000000
DTEND;TZID=Asia/Hong_Kong:20190316T000000
DTSTAMP:20260425T003319
CREATED:20211031T210840Z
LAST-MODIFIED:20211031T212142Z
UID:10000632-1552694400-1552694400@hkrspkw.org
SUMMARY:訓練基地
DESCRIPTION:
URL:https://hkrspkw.org/event/%e8%a8%93%e7%b7%b4%e5%9f%ba%e5%9c%b0150/
LOCATION:深水埗官立小學\, 長沙灣深旺道101號\, 香港
END:VEVENT
BEGIN:VEVENT
DTSTART;TZID=Asia/Hong_Kong:20190331T000000
DTEND;TZID=Asia/Hong_Kong:20190331T000000
DTSTAMP:20260425T003319
CREATED:20211031T210731Z
LAST-MODIFIED:20211031T212150Z
UID:10000484-1553990400-1553990400@hkrspkw.org
SUMMARY:中級章訓練日
DESCRIPTION:
URL:https://hkrspkw.org/event/%e4%b8%ad%e7%b4%9a%e7%ab%a0%e8%a8%93%e7%b7%b4%e6%97%a5117/
LOCATION:深水埗官立小學\, 長沙灣深旺道101號\, 香港
END:VEVENT
BEGIN:VEVENT
DTSTART;TZID=Asia/Hong_Kong:20190407T000000
DTEND;TZID=Asia/Hong_Kong:20190407T000000
DTSTAMP:20260425T003319
CREATED:20211031T210731Z
LAST-MODIFIED:20211031T212157Z
UID:10000486-1554595200-1554595200@hkrspkw.org
SUMMARY:中級章訓練日2
DESCRIPTION:
URL:https://hkrspkw.org/event/%e4%b8%ad%e7%b4%9a%e7%ab%a0%e8%a8%93%e7%b7%b4%e6%97%a5219/
LOCATION:深水埗官立小學\, 長沙灣深旺道101號\, 香港
END:VEVENT
BEGIN:VEVENT
DTSTART;TZID=Asia/Hong_Kong:20190414T000000
DTEND;TZID=Asia/Hong_Kong:20190414T000000
DTSTAMP:20260425T003319
CREATED:20211031T210733Z
LAST-MODIFIED:20211031T212202Z
UID:10000488-1555200000-1555200000@hkrspkw.org
SUMMARY:中級章訓練日3
DESCRIPTION:
URL:https://hkrspkw.org/event/%e4%b8%ad%e7%b4%9a%e7%ab%a0%e8%a8%93%e7%b7%b4%e6%97%a5321/
LOCATION:深水埗官立小學\, 長沙灣深旺道101號\, 香港
END:VEVENT
BEGIN:VEVENT
DTSTART;TZID=Asia/Hong_Kong:20190428T000000
DTEND;TZID=Asia/Hong_Kong:20190428T000000
DTSTAMP:20260425T003319
CREATED:20211031T210734Z
LAST-MODIFIED:20211031T212208Z
UID:10000490-1556409600-1556409600@hkrspkw.org
SUMMARY:中級章訓練日4
DESCRIPTION:
URL:https://hkrspkw.org/event/%e4%b8%ad%e7%b4%9a%e7%ab%a0%e8%a8%93%e7%b7%b4%e6%97%a5423/
LOCATION:深水埗官立小學\, 長沙灣深旺道101號\, 香港
END:VEVENT
BEGIN:VEVENT
DTSTART;TZID=Asia/Hong_Kong:20190504T000000
DTEND;TZID=Asia/Hong_Kong:20190504T000000
DTSTAMP:20260425T003319
CREATED:20211031T210738Z
LAST-MODIFIED:20211031T212205Z
UID:10000404-1556928000-1556928000@hkrspkw.org
SUMMARY:初級章考試日3
DESCRIPTION:
URL:https://hkrspkw.org/event/%e5%88%9d%e7%b4%9a%e7%ab%a0%e8%80%83%e8%a9%a6%e6%97%a537/
LOCATION:深水埗官立小學\, 長沙灣深旺道101號\, 香港
END:VEVENT
BEGIN:VEVENT
DTSTART;TZID=Asia/Hong_Kong:20190505T000000
DTEND;TZID=Asia/Hong_Kong:20190505T000000
DTSTAMP:20260425T003319
CREATED:20211031T210730Z
LAST-MODIFIED:20211031T210730Z
UID:10000482-1557014400-1557014400@hkrspkw.org
SUMMARY:中級章考試日15
DESCRIPTION:
URL:https://hkrspkw.org/event/%e4%b8%ad%e7%b4%9a%e7%ab%a0%e8%80%83%e8%a9%a6%e6%97%a515/
LOCATION:深水埗官立小學\, 長沙灣深旺道101號\, 香港
END:VEVENT
BEGIN:VEVENT
DTSTART;TZID=Asia/Hong_Kong:20190602T000000
DTEND;TZID=Asia/Hong_Kong:20190602T000000
DTSTAMP:20260425T003319
CREATED:20211031T210805Z
LAST-MODIFIED:20211031T212213Z
UID:10000598-1559433600-1559433600@hkrspkw.org
SUMMARY:第二期長官步操訓練班(第三期)
DESCRIPTION:
URL:https://hkrspkw.org/event/%e7%ac%ac%e4%ba%8c%e6%9c%9f%e9%95%b7%e5%ae%98%e6%ad%a5%e6%93%8d%e8%a8%93%e7%b7%b4%e7%8f%ad%e7%ac%ac%e4%b8%89%e6%9c%9f116/
LOCATION:深水埗官立小學\, 長沙灣深旺道101號\, 香港
END:VEVENT
BEGIN:VEVENT
DTSTART;TZID=Asia/Hong_Kong:20211030T143000
DTEND;TZID=Asia/Hong_Kong:20211030T160000
DTSTAMP:20260425T003319
CREATED:20211028T112428Z
LAST-MODIFIED:20211028T112505Z
UID:10000454-1635604200-1635609600@hkrspkw.org
SUMMARY:到校訓練-深水埗官立小學
DESCRIPTION: 
URL:https://hkrspkw.org/event/%e5%88%b0%e6%a0%a1%e8%a8%93%e7%b7%b4-%e6%b7%b1%e6%b0%b4%e5%9f%97%e5%ae%98%e7%ab%8b%e5%b0%8f%e5%ad%b8/
LOCATION:深水埗官立小學\, 長沙灣深旺道101號\, 香港
CATEGORIES:隊內活動
END:VEVENT
BEGIN:VEVENT
DTSTART;TZID=Asia/Hong_Kong:20211030T150000
DTEND;TZID=Asia/Hong_Kong:20211030T160000
DTSTAMP:20260425T003319
CREATED:20211028T111631Z
LAST-MODIFIED:20211028T111633Z
UID:10000453-1635606000-1635609600@hkrspkw.org
SUMMARY:總區學校探訪
DESCRIPTION:深水埗官立小學
URL:https://hkrspkw.org/event/%e7%b8%bd%e5%8d%80%e5%ad%b8%e6%a0%a1%e6%8e%a2%e8%a8%aa/
LOCATION:深水埗官立小學\, 長沙灣深旺道101號\, 香港
CATEGORIES:長官限定
END:VEVENT
BEGIN:VEVENT
DTSTART;TZID=Asia/Hong_Kong:20211113T143000
DTEND;TZID=Asia/Hong_Kong:20211113T160000
DTSTAMP:20260425T003319
CREATED:20211113T073937Z
LAST-MODIFIED:20211113T073937Z
UID:10000510-1636813800-1636819200@hkrspkw.org
SUMMARY:到校訓練-深水埗官立小學
DESCRIPTION: 
URL:https://hkrspkw.org/event/%e5%88%b0%e6%a0%a1%e8%a8%93%e7%b7%b4-%e6%b7%b1%e6%b0%b4%e5%9f%97%e5%ae%98%e7%ab%8b%e5%b0%8f%e5%ad%b8-2/
LOCATION:深水埗官立小學\, 長沙灣深旺道101號\, 香港
CATEGORIES:隊內活動
END:VEVENT
BEGIN:VEVENT
DTSTART;TZID=Asia/Hong_Kong:20211204T143000
DTEND;TZID=Asia/Hong_Kong:20211204T160000
DTSTAMP:20260425T003319
CREATED:20221007T192819Z
LAST-MODIFIED:20221008T175453Z
UID:10000662-1638628200-1638633600@hkrspkw.org
SUMMARY:到校訓練-深水埗官立小學
DESCRIPTION:
URL:https://hkrspkw.org/event/%e5%88%b0%e6%a0%a1%e8%a8%93%e7%b7%b4-%e6%b7%b1%e6%b0%b4%e5%9f%97%e5%ae%98%e7%ab%8b%e5%b0%8f%e5%ad%b8-3/
LOCATION:深水埗官立小學\, 長沙灣深旺道101號\, 香港
CATEGORIES:隊內活動
END:VEVENT
BEGIN:VEVENT
DTSTART;TZID=Asia/Hong_Kong:20211211T143000
DTEND;TZID=Asia/Hong_Kong:20211211T160000
DTSTAMP:20260425T003319
CREATED:20221007T192946Z
LAST-MODIFIED:20221010T041228Z
UID:10000663-1639233000-1639238400@hkrspkw.org
SUMMARY:到校訓練-深水埗官立小學
DESCRIPTION:
URL:https://hkrspkw.org/event/%e5%88%b0%e6%a0%a1%e8%a8%93%e7%b7%b4-%e6%b7%b1%e6%b0%b4%e5%9f%97%e5%ae%98%e7%ab%8b%e5%b0%8f%e5%ad%b8-4/
LOCATION:深水埗官立小學\, 長沙灣深旺道101號\, 香港
CATEGORIES:隊內活動
END:VEVENT
BEGIN:VEVENT
DTSTART;TZID=Asia/Hong_Kong:20220618T143000
DTEND;TZID=Asia/Hong_Kong:20220618T160000
DTSTAMP:20260425T003319
CREATED:20221008T123907Z
LAST-MODIFIED:20221010T124205Z
UID:10000685-1655562600-1655568000@hkrspkw.org
SUMMARY:到校訓練-深水埗官立小學
DESCRIPTION: 
URL:https://hkrspkw.org/event/%e5%88%b0%e6%a0%a1%e8%a8%93%e7%b7%b4-%e6%b7%b1%e6%b0%b4%e5%9f%97%e5%ae%98%e7%ab%8b%e5%b0%8f%e5%ad%b8-7/
LOCATION:深水埗官立小學\, 長沙灣深旺道101號\, 香港
CATEGORIES:隊內活動
END:VEVENT
BEGIN:VEVENT
DTSTART;TZID=Asia/Hong_Kong:20220709T143000
DTEND;TZID=Asia/Hong_Kong:20220709T160000
DTSTAMP:20260425T003319
CREATED:20221008T123955Z
LAST-MODIFIED:20221010T123900Z
UID:10000686-1657377000-1657382400@hkrspkw.org
SUMMARY:到校訓練-深水埗官立小學
DESCRIPTION: 
URL:https://hkrspkw.org/event/%e5%88%b0%e6%a0%a1%e8%a8%93%e7%b7%b4-%e6%b7%b1%e6%b0%b4%e5%9f%97%e5%ae%98%e7%ab%8b%e5%b0%8f%e5%ad%b8-9/
LOCATION:深水埗官立小學\, 長沙灣深旺道101號\, 香港
CATEGORIES:隊內活動
END:VEVENT
BEGIN:VEVENT
DTSTART;TZID=Asia/Hong_Kong:20220723T143000
DTEND;TZID=Asia/Hong_Kong:20220723T160000
DTSTAMP:20260425T003319
CREATED:20221007T195201Z
LAST-MODIFIED:20221010T123837Z
UID:10000669-1658586600-1658592000@hkrspkw.org
SUMMARY:到校訓練-深水埗官立小學
DESCRIPTION: 
URL:https://hkrspkw.org/event/%e5%88%b0%e6%a0%a1%e8%a8%93%e7%b7%b4-%e6%b7%b1%e6%b0%b4%e5%9f%97%e5%ae%98%e7%ab%8b%e5%b0%8f%e5%ad%b8-7-2022-07-23/
LOCATION:深水埗官立小學\, 長沙灣深旺道101號\, 香港
CATEGORIES:隊內活動
END:VEVENT
BEGIN:VEVENT
DTSTART;TZID=Asia/Hong_Kong:20221015T140000
DTEND;TZID=Asia/Hong_Kong:20221015T160000
DTSTAMP:20260425T003319
CREATED:20221023T112804Z
LAST-MODIFIED:20221023T112805Z
UID:10000694-1665842400-1665849600@hkrspkw.org
SUMMARY:公開隊集會
DESCRIPTION:
URL:https://hkrspkw.org/event/%e5%85%ac%e9%96%8b%e9%9a%8a%e9%9b%86%e6%9c%83-2/
LOCATION:深水埗官立小學\, 長沙灣深旺道101號\, 香港
CATEGORIES:隊內活動
END:VEVENT
BEGIN:VEVENT
DTSTART;TZID=Asia/Hong_Kong:20221015T143000
DTEND;TZID=Asia/Hong_Kong:20221015T160000
DTSTAMP:20260425T003319
CREATED:20221007T201147Z
LAST-MODIFIED:20221010T123048Z
UID:10000675-1665844200-1665849600@hkrspkw.org
SUMMARY:到校訓練-深水埗官立小學
DESCRIPTION: 
URL:https://hkrspkw.org/event/%e5%88%b0%e6%a0%a1%e8%a8%93%e7%b7%b4-%e6%b7%b1%e6%b0%b4%e5%9f%97%e5%ae%98%e7%ab%8b%e5%b0%8f%e5%ad%b8-8/
LOCATION:深水埗官立小學\, 長沙灣深旺道101號\, 香港
CATEGORIES:隊內活動
END:VEVENT
BEGIN:VEVENT
DTSTART;TZID=Asia/Hong_Kong:20221105T140000
DTEND;TZID=Asia/Hong_Kong:20221105T160000
DTSTAMP:20260425T003319
CREATED:20221105T070730Z
LAST-MODIFIED:20221105T070732Z
UID:10000539-1667656800-1667664000@hkrspkw.org
SUMMARY:公開隊集會
DESCRIPTION:
URL:https://hkrspkw.org/event/%e5%85%ac%e9%96%8b%e9%9a%8a%e9%9b%86%e6%9c%83-3/
LOCATION:深水埗官立小學\, 長沙灣深旺道101號\, 香港
CATEGORIES:隊內活動
END:VEVENT
BEGIN:VEVENT
DTSTART;TZID=Asia/Hong_Kong:20221105T143000
DTEND;TZID=Asia/Hong_Kong:20221105T160000
DTSTAMP:20260425T003319
CREATED:20221105T071013Z
LAST-MODIFIED:20221105T111425Z
UID:10000540-1667658600-1667664000@hkrspkw.org
SUMMARY:到校訓練-深水埗官立小學
DESCRIPTION: 
URL:https://hkrspkw.org/event/%e5%88%b0%e6%a0%a1%e8%a8%93%e7%b7%b4-%e6%b7%b1%e6%b0%b4%e5%9f%97%e5%ae%98%e7%ab%8b%e5%b0%8f%e5%ad%b8-5/
LOCATION:深水埗官立小學\, 長沙灣深旺道101號\, 香港
CATEGORIES:隊內活動
END:VEVENT
BEGIN:VEVENT
DTSTART;TZID=Asia/Hong_Kong:20221112T140000
DTEND;TZID=Asia/Hong_Kong:20221112T160000
DTSTAMP:20260425T003319
CREATED:20221112T082903Z
LAST-MODIFIED:20221112T082905Z
UID:10000542-1668261600-1668268800@hkrspkw.org
SUMMARY:公開隊集會
DESCRIPTION:
URL:https://hkrspkw.org/event/%e5%85%ac%e9%96%8b%e9%9a%8a%e9%9b%86%e6%9c%83-4/
LOCATION:深水埗官立小學\, 長沙灣深旺道101號\, 香港
CATEGORIES:隊內活動
END:VEVENT
BEGIN:VEVENT
DTSTART;TZID=Asia/Hong_Kong:20221112T143000
DTEND;TZID=Asia/Hong_Kong:20221112T160000
DTSTAMP:20260425T003319
CREATED:20221112T082722Z
LAST-MODIFIED:20221112T082724Z
UID:10000541-1668263400-1668268800@hkrspkw.org
SUMMARY:到校訓練-深水埗官立小學
DESCRIPTION:
URL:https://hkrspkw.org/event/%e5%88%b0%e6%a0%a1%e8%a8%93%e7%b7%b4-%e6%b7%b1%e6%b0%b4%e5%9f%97%e5%ae%98%e7%ab%8b%e5%b0%8f%e5%ad%b8-6/
LOCATION:深水埗官立小學\, 長沙灣深旺道101號\, 香港
CATEGORIES:隊內活動
END:VEVENT
END:VCALENDAR