BEGIN:VCALENDAR
VERSION:2.0
PRODID:-//香港交通安全隊 西九龍總區 - ECPv6.0.5//NONSGML v1.0//EN
CALSCALE:GREGORIAN
METHOD:PUBLISH
X-ORIGINAL-URL:https://hkrspkw.org
X-WR-CALDESC:Events for 香港交通安全隊 西九龍總區
REFRESH-INTERVAL;VALUE=DURATION:PT1H
X-Robots-Tag:noindex
X-PUBLISHED-TTL:PT1H
BEGIN:VTIMEZONE
TZID:Asia/Hong_Kong
BEGIN:STANDARD
TZOFFSETFROM:+0800
TZOFFSETTO:+0800
TZNAME:HKT
DTSTART:20220101T000000
END:STANDARD
END:VTIMEZONE
BEGIN:VEVENT
DTSTART;TZID=Asia/Hong_Kong:20220610T203000
DTEND;TZID=Asia/Hong_Kong:20220610T223000
DTSTAMP:20260421T235659
CREATED:20221008T103003Z
LAST-MODIFIED:20221010T165856Z
UID:10000681-1654893000-1654900200@hkrspkw.org
SUMMARY:公開隊行政會議
DESCRIPTION: 
URL:https://hkrspkw.org/event/%e5%85%ac%e9%96%8b%e9%9a%8a%e8%a1%8c%e6%94%bf%e6%9c%83%e8%ad%b0-7/
LOCATION:Zoom\, 香港
CATEGORIES:長官限定
END:VEVENT
BEGIN:VEVENT
DTSTART;TZID=Asia/Hong_Kong:20220612T133000
DTEND;TZID=Asia/Hong_Kong:20220612T163000
DTSTAMP:20260421T235659
CREATED:20221008T084213Z
LAST-MODIFIED:20221010T172355Z
UID:10000676-1655040600-1655051400@hkrspkw.org
SUMMARY:民政事務局局長嘉許典禮
DESCRIPTION: 
URL:https://hkrspkw.org/event/%e6%b0%91%e6%94%bf%e4%ba%8b%e5%8b%99%e5%b1%80%e5%b1%80%e9%95%b7%e5%98%89%e8%a8%b1%e5%85%b8%e7%a6%ae/
LOCATION:政府總部\, 金鐘添馬添美道2號\, 香港
CATEGORIES:長官限定
END:VEVENT
BEGIN:VEVENT
DTSTART;TZID=Asia/Hong_Kong:20220616T190000
DTEND;TZID=Asia/Hong_Kong:20220616T220000
DTSTAMP:20260421T235659
CREATED:20221010T031832Z
LAST-MODIFIED:20221010T123235Z
UID:10000690-1655406000-1655416800@hkrspkw.org
SUMMARY:總區內務與RSO會議
DESCRIPTION: 
URL:https://hkrspkw.org/event/%e7%b8%bd%e5%8d%80%e5%85%a7%e5%8b%99%e8%88%87rso%e6%9c%83%e8%ad%b0/
LOCATION:陶源酒家-尖東\, 尖沙咀加連威老道98號東海商業中心地庫一樓
CATEGORIES:長官限定
END:VEVENT
BEGIN:VEVENT
DTSTART;TZID=Asia/Hong_Kong:20220622T183000
DTEND;TZID=Asia/Hong_Kong:20220622T213000
DTSTAMP:20260421T235659
CREATED:20221008T145720Z
LAST-MODIFIED:20221010T123921Z
UID:10000532-1655922600-1655933400@hkrspkw.org
SUMMARY:西九龍總區政務會議
DESCRIPTION: 
URL:https://hkrspkw.org/event/%e8%a5%bf%e4%b9%9d%e9%be%8d%e7%b8%bd%e5%8d%80%e6%94%bf%e5%8b%99%e6%9c%83%e8%ad%b0-7/
LOCATION:紅磡西九龍交通行動基地\, 香港
CATEGORIES:長官限定
END:VEVENT
END:VCALENDAR