BEGIN:VCALENDAR
VERSION:2.0
PRODID:-//香港交通安全隊 西九龍總區 - ECPv6.0.5//NONSGML v1.0//EN
CALSCALE:GREGORIAN
METHOD:PUBLISH
X-ORIGINAL-URL:https://hkrspkw.org
X-WR-CALDESC:Events for 香港交通安全隊 西九龍總區
REFRESH-INTERVAL;VALUE=DURATION:PT1H
X-Robots-Tag:noindex
X-PUBLISHED-TTL:PT1H
BEGIN:VTIMEZONE
TZID:Asia/Hong_Kong
BEGIN:STANDARD
TZOFFSETFROM:+0800
TZOFFSETTO:+0800
TZNAME:HKT
DTSTART:20210101T000000
END:STANDARD
END:VTIMEZONE
BEGIN:VEVENT
DTSTART;TZID=Asia/Hong_Kong:20211004T200000
DTEND;TZID=Asia/Hong_Kong:20211004T220000
DTSTAMP:20260422T145059
CREATED:20211103T130029Z
LAST-MODIFIED:20211103T130030Z
UID:10000505-1633377600-1633384800@hkrspkw.org
SUMMARY:公開隊行政會議
DESCRIPTION:
URL:https://hkrspkw.org/event/%e5%85%ac%e9%96%8b%e9%9a%8a%e8%a1%8c%e6%94%bf%e6%9c%83%e8%ad%b0/
LOCATION:Zoom\, 香港
CATEGORIES:長官限定
END:VEVENT
BEGIN:VEVENT
DTSTART;TZID=Asia/Hong_Kong:20211007T080000
DTEND;TZID=Asia/Hong_Kong:20211022T170000
DTSTAMP:20260422T145059
CREATED:20210913T165100Z
LAST-MODIFIED:20211006T081600Z
UID:10000443-1633593600-1634922000@hkrspkw.org
SUMMARY:第四十一期高級長官周年研討日
DESCRIPTION:為加強高級長官對隊務及禮儀的認識，在「成人隊伍長官晉升必修課程」通告 內之第 15 項「高級長官周年研討日」規定各高級長官必須每年參加一次此項課程，目的讓領導層加強與高級長官直接溝通，使高級長官更了解隊務的發展。 \n如將會晉升、真除階級或被推薦領取獎項的高級長官必須出席，否則會影響其 個人在隊內的晉升、真除階級及被推薦領取獎項的機會。 \n目的︰ 讓領導層加強與高級長官直接溝通，使高級長官更了解隊務的發展。 \n教材及網上答題：本隊總部將於 2021 年 10 月 7 日(星期四)，以總部登記之電郵將教材及網上答題連結一併發送至各已報名之高級長官。並請於 2021年 10 月 22 日(星期五)下午 5 時正或之前完成網上答題，逾期網上答題會自動關閉及不能呈交。未能依時呈交答題之長官，作未能完成課程並不會獲發修業證書。 \n\n\n\n\n\n\n\n\n\n 
URL:https://hkrspkw.org/event/%e7%ac%ac%e5%9b%9b%e5%8d%81%e4%b8%80%e6%9c%9f%e9%ab%98%e7%b4%9a%e9%95%b7%e5%ae%98%e5%91%a8%e5%b9%b4%e7%a0%94%e8%a8%8e%e6%97%a5/
LOCATION:網上\, 香港
CATEGORIES:長官限定
END:VEVENT
BEGIN:VEVENT
DTSTART;TZID=Asia/Hong_Kong:20211017T083000
DTEND;TZID=Asia/Hong_Kong:20211017T170000
DTSTAMP:20260422T145059
CREATED:20210913T171921Z
LAST-MODIFIED:20210913T172157Z
UID:10000446-1634459400-1634490000@hkrspkw.org
SUMMARY:長官基本步操訓練班(課程一及二) 工作人員協助 Day2
DESCRIPTION:第二十二期長官基本步操訓練班(課程一) 及 第十七期長官基本步操訓練班(課程二) \n訓練班工作人員協助 \n\n\n\n\n\n\n\n\n\n 
URL:https://hkrspkw.org/event/%e9%95%b7%e5%ae%98%e5%9f%ba%e6%9c%ac%e6%ad%a5%e6%93%8d%e8%a8%93%e7%b7%b4%e7%8f%ad%e8%aa%b2%e7%a8%8b%e4%b8%80%e5%8f%8a%e4%ba%8c-%e5%b7%a5%e4%bd%9c%e4%ba%ba%e5%93%a1%e5%8d%94%e5%8a%a9-day2/
LOCATION:東華三院吳祥川紀念中學\, 青衣清心街7號\, 香港
CATEGORIES:長官限定,隊內活動
END:VEVENT
BEGIN:VEVENT
DTSTART;TZID=Asia/Hong_Kong:20211017T090000
DTEND;TZID=Asia/Hong_Kong:20211017T170000
DTSTAMP:20260422T145059
CREATED:20211017T052342Z
LAST-MODIFIED:20211017T052343Z
UID:10000450-1634461200-1634490000@hkrspkw.org
SUMMARY:第三十八期高級長官隊務及禮儀研習班
DESCRIPTION:
URL:https://hkrspkw.org/event/%e7%ac%ac%e4%b8%89%e5%8d%81%e5%85%ab%e6%9c%9f%e9%ab%98%e7%b4%9a%e9%95%b7%e5%ae%98%e9%9a%8a%e5%8b%99%e5%8f%8a%e7%a6%ae%e5%84%80%e7%a0%94%e7%bf%92%e7%8f%ad/
LOCATION:東華三院吳祥川紀念中學\, 青衣清心街7號\, 香港
CATEGORIES:長官限定
END:VEVENT
BEGIN:VEVENT
DTSTART;TZID=Asia/Hong_Kong:20211028T183000
DTEND;TZID=Asia/Hong_Kong:20211028T223000
DTSTAMP:20260422T145059
CREATED:20211028T100839Z
LAST-MODIFIED:20221010T171600Z
UID:10000451-1635445800-1635460200@hkrspkw.org
SUMMARY:西九龍總區政務會議
DESCRIPTION: 
URL:https://hkrspkw.org/event/%e8%a5%bf%e4%b9%9d%e9%be%8d%e7%b8%bd%e5%8d%80%e6%94%bf%e5%8b%99%e6%9c%83%e8%ad%b0-3/
LOCATION:陶源酒家-尖東\, 尖沙咀加連威老道98號東海商業中心地庫一樓
CATEGORIES:長官限定
END:VEVENT
BEGIN:VEVENT
DTSTART;TZID=Asia/Hong_Kong:20211028T190000
DTEND;TZID=Asia/Hong_Kong:20211028T220000
DTSTAMP:20260422T145059
CREATED:20211028T124056Z
LAST-MODIFIED:20211028T124057Z
UID:10000456-1635447600-1635458400@hkrspkw.org
SUMMARY:參事及行政人員會議
DESCRIPTION:
URL:https://hkrspkw.org/event/%e5%8f%83%e4%ba%8b%e5%8f%8a%e8%a1%8c%e6%94%bf%e4%ba%ba%e5%93%a1%e6%9c%83%e8%ad%b0-2/
LOCATION:灣仔活動中心\, 香港灣仔皇后大道東258號灣仔街市地下低層\, 香港
CATEGORIES:長官限定
END:VEVENT
BEGIN:VEVENT
DTSTART;TZID=Asia/Hong_Kong:20211030T150000
DTEND;TZID=Asia/Hong_Kong:20211030T160000
DTSTAMP:20260422T145059
CREATED:20211028T111631Z
LAST-MODIFIED:20211028T111633Z
UID:10000453-1635606000-1635609600@hkrspkw.org
SUMMARY:總區學校探訪
DESCRIPTION:深水埗官立小學
URL:https://hkrspkw.org/event/%e7%b8%bd%e5%8d%80%e5%ad%b8%e6%a0%a1%e6%8e%a2%e8%a8%aa/
LOCATION:深水埗官立小學\, 長沙灣深旺道101號\, 香港
CATEGORIES:長官限定
END:VEVENT
END:VCALENDAR